BEGIN:VCALENDAR
VERSION:2.0
PRODID:-//Boone County, Kentucky, Republican Party - ECPv6.15.20//NONSGML v1.0//EN
CALSCALE:GREGORIAN
METHOD:PUBLISH
X-WR-CALNAME:Boone County, Kentucky, Republican Party
X-ORIGINAL-URL:https://bcrpky.net
X-WR-CALDESC:Events for Boone County, Kentucky, Republican Party
REFRESH-INTERVAL;VALUE=DURATION:PT1H
X-Robots-Tag:noindex
X-PUBLISHED-TTL:PT1H
BEGIN:VTIMEZONE
TZID:America/New_York
BEGIN:DAYLIGHT
TZOFFSETFROM:-0500
TZOFFSETTO:-0400
TZNAME:EDT
DTSTART:20220313T070000
END:DAYLIGHT
BEGIN:STANDARD
TZOFFSETFROM:-0400
TZOFFSETTO:-0500
TZNAME:EST
DTSTART:20221106T060000
END:STANDARD
BEGIN:DAYLIGHT
TZOFFSETFROM:-0500
TZOFFSETTO:-0400
TZNAME:EDT
DTSTART:20230312T070000
END:DAYLIGHT
BEGIN:STANDARD
TZOFFSETFROM:-0400
TZOFFSETTO:-0500
TZNAME:EST
DTSTART:20231105T060000
END:STANDARD
BEGIN:DAYLIGHT
TZOFFSETFROM:-0500
TZOFFSETTO:-0400
TZNAME:EDT
DTSTART:20240310T070000
END:DAYLIGHT
BEGIN:STANDARD
TZOFFSETFROM:-0400
TZOFFSETTO:-0500
TZNAME:EST
DTSTART:20241103T060000
END:STANDARD
END:VTIMEZONE
BEGIN:VEVENT
DTSTART;TZID=America/New_York:20231107T060000
DTEND;TZID=America/New_York:20231107T180000
DTSTAMP:20260419T223330
CREATED:20230325T222149Z
LAST-MODIFIED:20230325T223158Z
UID:3078-1699336800-1699380000@bcrpky.net
SUMMARY:General Election
DESCRIPTION:Polls open 6 a.m. to 6 p.m.\, prevailing time.\nMail-in absentee ballots must be received by clerk before 6 p.m.\, prevailing time.\nCounty boards of elections to be in session all day.\nCounty boards of elections to meet at county clerk’s office at 8 a.m. to count absentee ballots\, but the absentee ballot results shall not be made public until after 6 p.m.\, prevailing time.
URL:https://bcrpky.net/event/general-election-2/
END:VEVENT
END:VCALENDAR