BEGIN:VCALENDAR
VERSION:2.0
PRODID:-//Boone County, Kentucky, Republican Party - ECPv6.15.20//NONSGML v1.0//EN
CALSCALE:GREGORIAN
METHOD:PUBLISH
X-WR-CALNAME:Boone County, Kentucky, Republican Party
X-ORIGINAL-URL:https://bcrpky.net
X-WR-CALDESC:Events for Boone County, Kentucky, Republican Party
REFRESH-INTERVAL;VALUE=DURATION:PT1H
X-Robots-Tag:noindex
X-PUBLISHED-TTL:PT1H
BEGIN:VTIMEZONE
TZID:America/New_York
BEGIN:DAYLIGHT
TZOFFSETFROM:-0500
TZOFFSETTO:-0400
TZNAME:EDT
DTSTART:20220313T070000
END:DAYLIGHT
BEGIN:STANDARD
TZOFFSETFROM:-0400
TZOFFSETTO:-0500
TZNAME:EST
DTSTART:20221106T060000
END:STANDARD
BEGIN:DAYLIGHT
TZOFFSETFROM:-0500
TZOFFSETTO:-0400
TZNAME:EDT
DTSTART:20230312T070000
END:DAYLIGHT
BEGIN:STANDARD
TZOFFSETFROM:-0400
TZOFFSETTO:-0500
TZNAME:EST
DTSTART:20231105T060000
END:STANDARD
BEGIN:DAYLIGHT
TZOFFSETFROM:-0500
TZOFFSETTO:-0400
TZNAME:EDT
DTSTART:20240310T070000
END:DAYLIGHT
BEGIN:STANDARD
TZOFFSETFROM:-0400
TZOFFSETTO:-0500
TZNAME:EST
DTSTART:20241103T060000
END:STANDARD
END:VTIMEZONE
BEGIN:VEVENT
DTSTART;VALUE=DATE:20231102
DTEND;VALUE=DATE:20231105
DTSTAMP:20260420T014239
CREATED:20230325T221209Z
LAST-MODIFIED:20230325T221209Z
UID:3076-1698883200-1699142399@bcrpky.net
SUMMARY:In-Person No-Excuse Absentee Voting
DESCRIPTION:In-person no-excuse absentee voting to be conducted in the county clerk’s office or other place designated by the county board of elections and approved by the State Board of Elections
URL:https://bcrpky.net/event/in-person-no-excuse-absentee-voting/
END:VEVENT
END:VCALENDAR